Workbook

Sheet ЯНВАРЬ 2013
E2: ЯНВАРЬ 2013 года
A3: № п/п | B3: Ф.И.О. ученика | C3: Сальдо дек. 2012 | D3: Внесено | E3: 1 неделя | J3: Внесено | K3: 2-я неделя | P3: Внесено | Q3: 3-я неделя | V3: Внесено | W3: 4-я неделя | AB3: Сальдо январь
G4: 9 | H4: 10 | I4: 11 | K4: 14 | L4: 15 | M4: 16 | N4: 17 | O4: 18 | Q4: 21 | R4: 22 | S4: 23 | T4: 24 | U4: 25 | W4: 28 | X4: 29 | Y4: 30 | Z4: 31 | AA4: 1
A5: 1 | B5: Баркова Александра | C5: 59.64 | D5: 5000 | K5: 90.74 | L5: 90.74 | M5: 90.74 | N5: 90.74 | O5: 90.74 | Q5: 90.74 | R5: 90.74 | S5: 90.74 | T5: 90.74 | U5: 90.74 | W5: 90.74 | X5: 90.74 | Y5: 90.74 | Z5: 90.74 | AB5: =(C5+D5+J5+P5+V5)-(SUM(E5:I5)+SUM(K5:O5)+SUM(Q5:U5)+SUM(W5:AA5)) -> 3789.28
A6: 2 | B6: Батюшкова Алиса | C6: 244.87 | D6: 1000 | G6: 90.74 | H6: 90.74 | I6: 90.74 | K6: 90.74 | L6: 90.74 | M6: 90.74 | N6: 90.74 | O6: 90.74 | W6: 90.74 | X6: 90.74 | Y6: 90.74 | Z6: 90.74 | AA6: 90.74 | AB6: =(C6+D6+J6+P6+V6)-(SUM(E6:I6)+SUM(K6:O6)+SUM(Q6:U6)+SUM(W6:AA6)) -> 65.25
A7: 3 | B7: Васильев Сергей | C7: 1289.08 | G7: 90.74 | K7: 90.74 | L7: 90.74 | M7: 90.74 | N7: 90.74 | Q7: 90.74 | R7: 90.74 | S7: 90.74 | T7: 90.74 | W7: 90.74 | X7: 90.74 | Y7: 90.74 | Z7: 90.74 | AB7: =(C7+D7+J7+P7+V7)-(SUM(E7:I7)+SUM(K7:O7)+SUM(Q7:U7)+SUM(W7:AA7)) -> 109.46
A8: 4 | B8: Горностаев Владислав | C8: 749.48 | D8: 2000 | G8: 90.74 | H8: 90.74 | I8: 90.74 | K8: 90.74 | L8: 90.74 | Y8: 90.74 | Z8: 90.74 | AA8: 90.74 | AB8: =(C8+D8+J8+P8+V8)-(SUM(E8:I8)+SUM(K8:O8)+SUM(Q8:U8)+SUM(W8:AA8)) -> 2023.56
A9: 5 | B9: Дашков Никита | C9: 1178.89 | D9: 2000 | G9: 90.74 | H9: 90.74 | I9: 90.74 | K9: 90.74 | L9: 90.74 | M9: 90.74 | N9: 90.74 | O9: 90.74 | Q9: 90.74 | R9: 90.74 | S9: 90.74 | T9: 90.74 | U9: 90.74 | W9: 90.74 | X9: 90.74 | Y9: 90.74 | Z9: 90.74 | AA9: 90.74 | AB9: =(C9+D9+J9+P9+V9)-(SUM(E9:I9)+SUM(K9:O9)+SUM(Q9:U9)+SUM(W9:AA9)) -> 1545.57
A10: 6 | B10: Девина София | C10: 1044.87 | D10: 1500 | G10: 90.74 | H10: 90.74 | I10: 90.74 | K10: 90.74 | L10: 90.74 | M10: 90.74 | N10: 90.74 | O10: 90.74 | Q10: 90.74 | R10: 90.74 | S10: 90.74 | T10: 90.74 | U10: 90.74 | AB10: =(C10+D10+J10+P10+V10)-(SUM(E10:I10)+SUM(K10:O10)+SUM(Q10:U10)+SUM(W10:AA10)) -> 1365.25
A11: 7 | B11: Ендерова Марина | C11: 409.59 | D11: 1500 | G11: 90.74 | H11: 90.74 | I11: 90.74 | K11: 90.74 | L11: 90.74 | M11: 90.74 | N11: 90.74 | O11: 90.74 | Q11: 90.74 | R11: 90.74 | S11: 90.74 | T11: 90.74 | U11: 90.74 | Y11: 90.74 | Z11: 90.74 | AA11: 90.74 | AB11: =(C11+D11+J11+P11+V11)-(SUM(E11:I11)+SUM(K11:O11)+SUM(Q11:U11)+SUM(W11:AA11)) -> 457.75
A12: 8 | B12: Журавлёв Сергей | C12: 95.2 | D12: 2000 | G12: 90.74 | H12: 90.74 | I12: 90.74 | K12: 90.74 | L12: 90.74 | M12: 90.74 | N12: 90.74 | O12: 90.74 | Q12: 90.74 | R12: 90.74 | S12: 90.74 | T12: 90.74 | U12: 90.74 | AB12: =(C12+D12+J12+P12+V12)-(SUM(E12:I12)+SUM(K12:O12)+SUM(Q12:U12)+SUM(W12:AA12)) -> 915.58
A13: 9 | B13: Каранадце Диана | C13: 880.36 | G13: 90.74 | H13: 90.74 | I13: 90.74 | K13: 90.74 | L13: 90.74 | M13: 90.74 | N13: 90.74 | O13: 90.74 | Q13: 90.74 | R13: 90.74 | S13: 90.74 | T13: 90.74 | U13: 90.74 | W13: 90.74 | X13: 90.74 | Y13: 90.74 | Z13: 90.74 | AB13: =(C13+D13+J13+P13+V13)-(SUM(E13:I13)+SUM(K13:O13)+SUM(Q13:U13)+SUM(W13:AA13)) -> -662.22
A14: 10 | B14: Крац Александр | C14: 0 | AB14: =(C14+D14+J14+P14+V14)-(SUM(E14:I14)+SUM(K14:O14)+SUM(Q14:U14)+SUM(W14:AA14)) -> 0
A15: 11 | B15: Круглова Мария | C15: 1080.36 | D15: 1000 | K15: 90.74 | L15: 90.74 | M15: 90.74 | N15: 90.74 | O15: 90.74 | Q15: 90.74 | R15: 90.74 | S15: 90.74 | T15: 90.74 | U15: 90.74 | W15: 90.74 | X15: 90.74 | Y15: 90.74 | Z15: 90.74 | AA15: 90.74 | AB15: =(C15+D15+J15+P15+V15)-(SUM(E15:I15)+SUM(K15:O15)+SUM(Q15:U15)+SUM(W15:AA15)) -> 719.26
A16: 12 | B16: Кузьмин Степан | C16: 359.17 | AB16: =(C16+D16+J16+P16+V16)-(SUM(E16:I16)+SUM(K16:O16)+SUM(Q16:U16)+SUM(W16:AA16)) -> 359.17
A17: 13 | B17: Кулинкович Ева | C17: 1249.48 | D17: 1000 | G17: 90.74 | H17: 90.74 | I17: 90.74 | K17: 90.74 | L17: 90.74 | M17: 90.74 | N17: 90.74 | O17: 90.74 | Q17: 90.74 | R17: 90.74 | S17: 90.74 | T17: 90.74 | U17: 90.74 | AB17: =(C17+D17+J17+P17+V17)-(SUM(E17:I17)+SUM(K17:O17)+SUM(Q17:U17)+SUM(W17:AA17)) -> 1069.86
A18: 14 | B18: Куст Ольга | C18: 943.96 | H18: 90.74 | T18: 90.74 | Z18: 90.74 | AB18: =(C18+D18+J18+P18+V18)-(SUM(E18:I18)+SUM(K18:O18)+SUM(Q18:U18)+SUM(W18:AA18)) -> 671.74
A19: 15 | B19: Кученкова Анна | C19: 0 | AB19: =(C19+D19+J19+P19+V19)-(SUM(E19:I19)+SUM(K19:O19)+SUM(Q19:U19)+SUM(W19:AA19)) -> 0
A20: 16 | B20: Ларионова Марина | C20: 0 | AB20: =(C20+D20+J20+P20+V20)-(SUM(E20:I20)+SUM(K20:O20)+SUM(Q20:U20)+SUM(W20:AA20)) -> 0
A21: 17 | B21: Лацузбая Елизавета | C21: 0 | AB21: =(C21+D21+J21+P21+V21)-(SUM(E21:I21)+SUM(K21:O21)+SUM(Q21:U21)+SUM(W21:AA21)) -> 0
A22: 18 | B22: Лызинцев Евгений | C22: 1037.73 | K22: 90.74 | Y22: 90.74 | AB22: =(C22+D22+J22+P22+V22)-(SUM(E22:I22)+SUM(K22:O22)+SUM(Q22:U22)+SUM(W22:AA22)) -> 856.25
A23: 19 | B23: Михайлов Иван | C23: 0 | AB23: =(C23+D23+J23+P23+V23)-(SUM(E23:I23)+SUM(K23:O23)+SUM(Q23:U23)+SUM(W23:AA23)) -> 0
A24: 20 | B24: Никонова Алиса | C24: 644.87 | D24: 1500 | G24: 90.74 | H24: 90.74 | I24: 90.74 | K24: 90.74 | L24: 90.74 | M24: 90.74 | N24: 90.74 | O24: 90.74 | Q24: 90.74 | R24: 90.74 | S24: 90.74 | T24: 90.74 | U24: 90.74 | W24: 90.74 | X24: 90.74 | Y24: 90.74 | Z24: 90.74 | AA24: 90.74 | AB24: =(C24+D24+J24+P24+V24)-(SUM(E24:I24)+SUM(K24:O24)+SUM(Q24:U24)+SUM(W24:AA24)) -> 511.55
A25: 21 | B25: Пахилина Дарья | C25: 757.55 | D25: 2000 | I25: 90.74 | K25: 90.74 | L25: 90.74 | M25: 90.74 | N25: 90.74 | O25: 90.74 | Q25: 90.74 | R25: 90.74 | S25: 90.74 | T25: 90.74 | U25: 90.74 | W25: 90.74 | X25: 90.74 | Y25: 90.74 | AB25: =(C25+D25+J25+P25+V25)-(SUM(E25:I25)+SUM(K25:O25)+SUM(Q25:U25)+SUM(W25:AA25)) -> 1487.19
A26: 22 | B26: Погорелова Таисия | C26: 0 | AB26: =(C26+D26+J26+P26+V26)-(SUM(E26:I26)+SUM(K26:O26)+SUM(Q26:U26)+SUM(W26:AA26)) -> 0
A27: 23 | B27: Полякова Софья | C27: 450.59 | H27: 90.74 | K27: 90.74 | L27: 90.74 | N27: 90.74 | Q27: 90.74 | R27: 90.74 | T27: 90.74 | W27: 90.74 | X27: 90.74 | Z27: 90.74 | AB27: =(C27+D27+J27+P27+V27)-(SUM(E27:I27)+SUM(K27:O27)+SUM(Q27:U27)+SUM(W27:AA27)) -> -456.81
A28: 24 | B28: Савенков Станислав | C28: 0 | AB28: =(C28+D28+J28+P28+V28)-(SUM(E28:I28)+SUM(K28:O28)+SUM(Q28:U28)+SUM(W28:AA28)) -> 0
A29: 25 | B29: Седых Алёна | C29: 0 | AB29: =(C29+D29+J29+P29+V29)-(SUM(E29:I29)+SUM(K29:O29)+SUM(Q29:U29)+SUM(W29:AA29)) -> 0
A30: 26 | B30: Спасская Софья | C30: -329.95 | D30: 2500 | G30: 90.74 | H30: 90.74 | I30: 90.74 | K30: 90.74 | L30: 90.74 | M30: 90.74 | N30: 90.74 | O30: 90.74 | Q30: 90.74 | R30: 90.74 | S30: 90.74 | T30: 90.74 | U30: 90.74 | W30: 90.74 | X30: 90.74 | AB30: =(C30+D30+J30+P30+V30)-(SUM(E30:I30)+SUM(K30:O30)+SUM(Q30:U30)+SUM(W30:AA30)) -> 808.95
A31: 27 | B31: Харольская Софья | C31: 2044.87 | K31: 90.74 | M31: 90.74 | N31: 90.74 | O31: 90.74 | Q31: 90.74 | R31: 90.74 | S31: 90.74 | T31: 90.74 | U31: 90.74 | W31: 90.74 | X31: 90.74 | Y31: 90.74 | AB31: =(C31+D31+J31+P31+V31)-(SUM(E31:I31)+SUM(K31:O31)+SUM(Q31:U31)+SUM(W31:AA31)) -> 955.99
A32: 28 | B32: Чебунина Кристина | C32: 859.98 | K32: 90.74 | L32: 90.74 | N32: 90.74 | Q32: 90.74 | R32: 90.74 | T32: 90.74 | W32: 90.74 | X32: 90.74 | Y32: 90.74 | Z32: 90.74 | AB32: =(C32+D32+J32+P32+V32)-(SUM(E32:I32)+SUM(K32:O32)+SUM(Q32:U32)+SUM(W32:AA32)) -> -47.42
A33: Сумма к уплате за обеды по дням | E33: =SUM(E5:E32) -> 0 | F33: =SUM(F5:F32) -> 0 | G33: =SUM(G5:G32) -> 998.14 | H33: =SUM(H5:H32) -> 1088.88 | I33: =SUM(I5:I32) -> 998.14 | K33: =SUM(K5:K32) -> 1633.32 | L33: =SUM(L5:L32) -> 1451.84 | M33: =SUM(M5:M32) -> 1270.36 | N33: =SUM(N5:N32) -> 1451.84 | O33: =SUM(O5:O32) -> 1179.62 | Q33: =SUM(Q5:Q32) -> 1361.1 | R33: =SUM(R5:R32) -> 1361.1 | S33: =SUM(S5:S32) -> 1179.62 | T33: =SUM(T5:T32) -> 1451.84 | U33: =SUM(U5:U32) -> 1088.88 | W33: =SUM(W5:W32) -> 1088.88 | X33: =SUM(X5:X32) -> 1088.88 | Y33: =SUM(Y5:Y32) -> 1179.62 | Z33: =SUM(Z5:Z32) -> 1088.88 | AA33: =SUM(AA5:AA32) -> 544.44
A36: Сумма к зачету столовой на конец месяца (оплачено, но не использовано) | AB36: =SUM(AB5:AB35) -> 16545.21

Sheet ФЕВРАЛЬ 2013
E2: ФЕВРАЛЬ 2013
A3: № п/п | B3: Ф.И.О. ученика | C3: Сальдо январь | D3: Внесено | E3: 1-я неделя | J3: Внесено | K3: 2-я неделя | P3: Внесено | Q3: 3-я неделя | V3: Внесено | W3: 4-я неделя | AB3: Сальдо февраль
E4: 4 | F4: 5 | G4: 6 | H4: 7 | I4: 8 | K4: 11 | L4: 12 | M4: 13 | N4: 14 | O4: 15 | Q4: 18 | R4: 19 | S4: 20 | T4: 21 | U4: 22 | W4: 25 | X4: 26 | Y4: 27 | Z4: 28 | AA4: 1
A5: 1 | B5: Баркова Александра | C5: ='ЯНВАРЬ 2013'!AB5 -> 3789.28 | K5: 90.74 | L5: 90.74 | M5: 90.74 | N5: 90.74 | O5: 90.74 | AB5: =(C5+D5+J5+P5+V5)-(SUM(E5:I5)+SUM(K5:O5)+SUM(Q5:U5)+SUM(W5:AA5)) -> 3335.58
A6: 2 | B6: Батюшкова Алиса | C6: ='ЯНВАРЬ 2013'!AB6 -> 65.25 | D6: 1000 | E6: 90.74 | F6: 90.74 | G6: 90.74 | H6: 90.74 | I6: 90.74 | K6: 90.74 | L6: 90.74 | M6: 90.74 | N6: 90.74 | O6: 90.74 | AB6: =(C6+D6+J6+P6+V6)-(SUM(E6:I6)+SUM(K6:O6)+SUM(Q6:U6)+SUM(W6:AA6)) -> 157.85
A7: 3 | B7: Васильев Сергей | C7: ='ЯНВАРЬ 2013'!AB7 -> 109.46 | D7: 1000 | K7: 90.74 | L7: 90.74 | M7: 90.74 | N7: 90.74 | AB7: =(C7+D7+J7+P7+V7)-(SUM(E7:I7)+SUM(K7:O7)+SUM(Q7:U7)+SUM(W7:AA7)) -> 746.5
A8: 4 | B8: Горностаев Владислав | C8: ='ЯНВАРЬ 2013'!AB8 -> 2023.56 | L8: 90.74 | M8: 90.74 | N8: 90.74 | O8: 90.74 | AB8: =(C8+D8+J8+P8+V8)-(SUM(E8:I8)+SUM(K8:O8)+SUM(Q8:U8)+SUM(W8:AA8)) -> 1660.6
A9: 5 | B9: Дашков Никита | C9: ='ЯНВАРЬ 2013'!AB9 -> 1545.57 | D9: 2000 | H9: 90.74 | I9: 90.74 | K9: 90.74 | L9: 90.74 | M9: 90.74 | N9: 90.74 | O9: 90.74 | AB9: =(C9+D9+J9+P9+V9)-(SUM(E9:I9)+SUM(K9:O9)+SUM(Q9:U9)+SUM(W9:AA9)) -> 2910.39
A10: 6 | B10: Девина София | C10: ='ЯНВАРЬ 2013'!AB10 -> 1365.25 | D10: 1000 | E10: 90.74 | F10: 90.74 | G10: 90.74 | H10: 90.74 | I10: 90.74 | K10: 90.74 | L10: 90.74 | M10: 90.74 | N10: 90.74 | O10: 90.74 | AB10: =(C10+D10+J10+P10+V10)-(SUM(E10:I10)+SUM(K10:O10)+SUM(Q10:U10)+SUM(W10:AA10)) -> 1457.85
A11: 7 | B11: Ендерова Марина | C11: ='ЯНВАРЬ 2013'!AB11 -> 457.75 | E11: 90.74 | F11: 90.74 | G11: 90.74 | H11: 90.74 | I11: 90.74 | K11: 90.74 | L11: 90.74 | M11: 90.74 | N11: 90.74 | O11: 90.74 | AB11: =(C11+D11+J11+P11+V11)-(SUM(E11:I11)+SUM(K11:O11)+SUM(Q11:U11)+SUM(W11:AA11)) -> -449.65
A12: 8 | B12: Журавлёв Сергей | C12: ='ЯНВАРЬ 2013'!AB12 -> 915.58 | D12: 2000 | E12: 90.74 | F12: 90.74 | G12: 90.74 | H12: 90.74 | I12: 90.74 | K12: 90.74 | L12: 90.74 | M12: 90.74 | N12: 90.74 | O12: 90.74 | AB12: =(C12+D12+J12+P12+V12)-(SUM(E12:I12)+SUM(K12:O12)+SUM(Q12:U12)+SUM(W12:AA12)) -> 2008.18
A13: 9 | B13: Каранадце Диана | C13: ='ЯНВАРЬ 2013'!AB13 -> -662.22 | E13: 90.74 | F13: 90.74 | G13: 90.74 | K13: 90.74 | M13: 90.74 | N13: 90.74 | O13: 90.74 | AB13: =(C13+D13+J13+P13+V13)-(SUM(E13:I13)+SUM(K13:O13)+SUM(Q13:U13)+SUM(W13:AA13)) -> -1297.4
A14: 10 | B14: Крац Александр | C14: ='ЯНВАРЬ 2013'!AB14 -> 0 | AB14: =(C14+D14+J14+P14+V14)-(SUM(E14:I14)+SUM(K14:O14)+SUM(Q14:U14)+SUM(W14:AA14)) -> 0
A15: 11 | B15: Круглова Мария | C15: ='ЯНВАРЬ 2013'!AB15 -> 719.26 | AB15: =(C15+D15+J15+P15+V15)-(SUM(E15:I15)+SUM(K15:O15)+SUM(Q15:U15)+SUM(W15:AA15)) -> 719.26
A16: 12 | B16: Кузьмин Степан | C16: ='ЯНВАРЬ 2013'!AB16 -> 359.17 | AB16: =(C16+D16+J16+P16+V16)-(SUM(E16:I16)+SUM(K16:O16)+SUM(Q16:U16)+SUM(W16:AA16)) -> 359.17
A17: 13 | B17: Кулинкович Ева | C17: ='ЯНВАРЬ 2013'!AB17 -> 1069.86 | L17: 90.74 | M17: 90.74 | N17: 90.74 | O17: 90.74 | AB17: =(C17+D17+J17+P17+V17)-(SUM(E17:I17)+SUM(K17:O17)+SUM(Q17:U17)+SUM(W17:AA17)) -> 706.9
A18: 14 | B18: Куст Ольга | C18: ='ЯНВАРЬ 2013'!AB18 -> 671.74 | D18: 1000 | F18: 90.74 | H18: 90.74 | N18: 90.74 | AB18: =(C18+D18+J18+P18+V18)-(SUM(E18:I18)+SUM(K18:O18)+SUM(Q18:U18)+SUM(W18:AA18)) -> 1399.52
A19: 15 | B19: Кученкова Анна | C19: ='ЯНВАРЬ 2013'!AB19 -> 0 | AB19: =(C19+D19+J19+P19+V19)-(SUM(E19:I19)+SUM(K19:O19)+SUM(Q19:U19)+SUM(W19:AA19)) -> 0
A20: 16 | B20: Ларионова Марина | C20: ='ЯНВАРЬ 2013'!AB20 -> 0 | AB20: =(C20+D20+J20+P20+V20)-(SUM(E20:I20)+SUM(K20:O20)+SUM(Q20:U20)+SUM(W20:AA20)) -> 0
A21: 17 | B21: Лацузбая Елизавета | C21: ='ЯНВАРЬ 2013'!AB21 -> 0 | AB21: =(C21+D21+J21+P21+V21)-(SUM(E21:I21)+SUM(K21:O21)+SUM(Q21:U21)+SUM(W21:AA21)) -> 0
A22: 18 | B22: Лызинцев Евгений | C22: ='ЯНВАРЬ 2013'!AB22 -> 856.25 | D22: 1000 | E22: 90.74 | G22: 90.74 | K22: 90.74 | M22: 90.74 | AB22: =(C22+D22+J22+P22+V22)-(SUM(E22:I22)+SUM(K22:O22)+SUM(Q22:U22)+SUM(W22:AA22)) -> 1493.29
A23: 19 | B23: Михайлов Иван | C23: ='ЯНВАРЬ 2013'!AB23 -> 0 | AB23: =(C23+D23+J23+P23+V23)-(SUM(E23:I23)+SUM(K23:O23)+SUM(Q23:U23)+SUM(W23:AA23)) -> 0
A24: 20 | B24: Никонова Алиса | C24: ='ЯНВАРЬ 2013'!AB24 -> 511.55 | D24: 1800 | E24: 90.74 | F24: 90.74 | G24: 90.74 | H24: 90.74 | I24: 90.74 | K24: 90.74 | L24: 90.74 | M24: 90.74 | N24: 90.74 | O24: 90.74 | AB24: =(C24+D24+J24+P24+V24)-(SUM(E24:I24)+SUM(K24:O24)+SUM(Q24:U24)+SUM(W24:AA24)) -> 1404.15
A25: 21 | B25: Пахилина Дарья | C25: ='ЯНВАРЬ 2013'!AB25 -> 1487.19 | F25: 90.74 | G25: 90.74 | H25: 90.74 | I25: 90.74 | K25: 90.74 | L25: 90.74 | M25: 90.74 | N25: 90.74 | O25: 90.74 | AB25: =(C25+D25+J25+P25+V25)-(SUM(E25:I25)+SUM(K25:O25)+SUM(Q25:U25)+SUM(W25:AA25)) -> 670.53
A26: 22 | B26: Погорелова Таисия | C26: ='ЯНВАРЬ 2013'!AB26 -> 0 | AB26: =(C26+D26+J26+P26+V26)-(SUM(E26:I26)+SUM(K26:O26)+SUM(Q26:U26)+SUM(W26:AA26)) -> 0
A27: 24 | B27: Полякова Софья | C27: ='ЯНВАРЬ 2013'!AB27 -> -456.81 | D27: 1000 | K27: 90.74 | L27: 90.74 | N27: 90.74 | AB27: =(C27+D27+J27+P27+V27)-(SUM(E27:I27)+SUM(K27:O27)+SUM(Q27:U27)+SUM(W27:AA27)) -> 270.97
A28: 25 | B28: Савенков Станислав | C28: ='ЯНВАРЬ 2013'!AB28 -> 0 | AB28: =(C28+D28+J28+P28+V28)-(SUM(E28:I28)+SUM(K28:O28)+SUM(Q28:U28)+SUM(W28:AA28)) -> 0
A29: 26 | B29: Седых Алёна | C29: ='ЯНВАРЬ 2013'!AB29 -> 0 | AB29: =(C29+D29+J29+P29+V29)-(SUM(E29:I29)+SUM(K29:O29)+SUM(Q29:U29)+SUM(W29:AA29)) -> 0
A30: 27 | B30: Спасская Софья | C30: ='ЯНВАРЬ 2013'!AB30 -> 808.95 | G30: 90.74 | H30: 90.74 | I30: 90.74 | K30: 90.74 | L30: 90.74 | M30: 90.74 | N30: 90.74 | O30: 90.74 | AB30: =(C30+D30+J30+P30+V30)-(SUM(E30:I30)+SUM(K30:O30)+SUM(Q30:U30)+SUM(W30:AA30)) -> 83.03
A31: 28 | B31: Харольская Софья | C31: ='ЯНВАРЬ 2013'!AB31 -> 955.99 | E31: 90.74 | F31: 90.74 | G31: 90.74 | H31: 90.74 | I31: 90.74 | K31: 90.74 | L31: 90.74 | M31: 90.74 | N31: 90.74 | O31: 90.74 | AB31: =(C31+D31+J31+P31+V31)-(SUM(E31:I31)+SUM(K31:O31)+SUM(Q31:U31)+SUM(W31:AA31)) -> 48.59
A32: 29 | B32: Чебунина Кристина | C32: ='ЯНВАРЬ 2013'!AB32 -> -47.42 | N32: 90.74 | AB32: =(C32+D32+J32+P32+V32)-(SUM(E32:I32)+SUM(K32:O32)+SUM(Q32:U32)+SUM(W32:AA32)) -> -138.16
A33: Сумма к уплате по дням | E33: =SUM(E5:E32) -> 725.92 | F33: =SUM(F5:F32) -> 816.66 | G33: =SUM(G5:G32) -> 907.4 | H33: =SUM(H5:H32) -> 907.4 | I33: =SUM(I5:I32) -> 816.66 | K33: =SUM(K5:K32) -> 1270.36 | L33: =SUM(L5:L32) -> 1270.36 | M33: =SUM(M5:M32) -> 1361.1 | N33: =SUM(N5:N32) -> 1542.58 | O33: =SUM(O5:O32) -> 1179.62 | Q33: =SUM(Q5:Q32) -> 0 | R33: =SUM(R5:R32) -> 0 | S33: =SUM(S5:S32) -> 0 | T33: =SUM(T5:T32) -> 0 | U33: =SUM(U5:U32) -> 0 | W33: =SUM(W5:W32) -> 0 | X33: =SUM(X5:X32) -> 0 | Y33: =SUM(Y5:Y32) -> 0 | Z33: =SUM(Z5:Z32) -> 0 | AA33: =SUM(AA5:AA32) -> 0
A36: Сумма к зачету столовой на конец месяца (оплачено но не использовано) | AB36: =SUM(AB5:AB32) -> 17547.15

Sheet МАРТ 2013
E2: МАРТ 2013
A3: № п/п | B3: Ф.И.О. ученика | C3: Сальдо февраль | D3: Внесено | E3: 1-я неделя | J3: Внесено | K3: 2-я неделя | P3: Внесено | Q3: 3-я неделя | V3: Внесено | W3: 4-я неделя | AB3: Сальдо март
E4: 4 | F4: 5 | G4: 6 | H4: 6 | I4: 8 | K4: 11 | L4: 12 | M4: 13 | N4: 14 | O4: 15 | Q4: 18 | R4: 19 | S4: 20 | T4: 21 | U4: 22 | W4: 25 | X4: 26 | Y4: 27 | Z4: 28 | AA4: 29
A5: 1 | B5: Баркова Александра | C5: ='ФЕВРАЛЬ 2013'!AB5 -> 3335.58 | AB5: =(C5+D5+J5+P5+V5)-(SUM(E5:I5)+SUM(K5:O5)+SUM(Q5:U5)+SUM(W5:AA5)) -> 3335.58
A6: 2 | B6: Батюшкова Алиса | C6: ='ФЕВРАЛЬ 2013'!AB6 -> 157.85 | AB6: =(C6+D6+J6+P6+V6)-(SUM(E6:I6)+SUM(K6:O6)+SUM(Q6:U6)+SUM(W6:AA6)) -> 157.85
A7: 3 | B7: Васильев Сергей | C7: ='ФЕВРАЛЬ 2013'!AB7 -> 746.5 | AB7: =(C7+D7+J7+P7+V7)-(SUM(E7:I7)+SUM(K7:O7)+SUM(Q7:U7)+SUM(W7:AA7)) -> 746.5
A8: 4 | B8: Горностаев Владислав | C8: ='ФЕВРАЛЬ 2013'!AB8 -> 1660.6 | AB8: =(C8+D8+J8+P8+V8)-(SUM(E8:I8)+SUM(K8:O8)+SUM(Q8:U8)+SUM(W8:AA8)) -> 1660.6
A9: 5 | B9: Дашков Никита | C9: ='ФЕВРАЛЬ 2013'!AB9 -> 2910.39 | AB9: =(C9+D9+J9+P9+V9)-(SUM(E9:I9)+SUM(K9:O9)+SUM(Q9:U9)+SUM(W9:AA9)) -> 2910.39
A10: 6 | B10: Девина София | C10: ='ФЕВРАЛЬ 2013'!AB10 -> 1457.85 | AB10: =(C10+D10+J10+P10+V10)-(SUM(E10:I10)+SUM(K10:O10)+SUM(Q10:U10)+SUM(W10:AA10)) -> 1457.85
A11: 7 | B11: Ендерова Марина | C11: ='ФЕВРАЛЬ 2013'!AB11 -> -449.65 | AB11: =(C11+D11+J11+P11+V11)-(SUM(E11:I11)+SUM(K11:O11)+SUM(Q11:U11)+SUM(W11:AA11)) -> -449.65
A12: 8 | B12: Журавлёв Сергей | C12: ='ФЕВРАЛЬ 2013'!AB12 -> 2008.18 | AB12: =(C12+D12+J12+P12+V12)-(SUM(E12:I12)+SUM(K12:O12)+SUM(Q12:U12)+SUM(W12:AA12)) -> 2008.18
A13: 9 | B13: Каранадце Диана | C13: ='ФЕВРАЛЬ 2013'!AB13 -> -1297.4 | AB13: =(C13+D13+J13+P13+V13)-(SUM(E13:I13)+SUM(K13:O13)+SUM(Q13:U13)+SUM(W13:AA13)) -> -1297.4
A14: 10 | B14: Крац Александр | C14: ='ФЕВРАЛЬ 2013'!AB14 -> 0 | AB14: =(C14+D14+J14+P14+V14)-(SUM(E14:I14)+SUM(K14:O14)+SUM(Q14:U14)+SUM(W14:AA14)) -> 0
A15: 11 | B15: Круглова Мария | C15: ='ФЕВРАЛЬ 2013'!AB15 -> 719.26 | AB15: =(C15+D15+J15+P15+V15)-(SUM(E15:I15)+SUM(K15:O15)+SUM(Q15:U15)+SUM(W15:AA15)) -> 719.26
A16: 12 | B16: Кузьмин Степан | C16: ='ФЕВРАЛЬ 2013'!AB16 -> 359.17 | AB16: =(C16+D16+J16+P16+V16)-(SUM(E16:I16)+SUM(K16:O16)+SUM(Q16:U16)+SUM(W16:AA16)) -> 359.17
... A32: 28 | B32: Чебунина Кристина | C32: ='ФЕВРАЛЬ 2013'!AB32 -> -138.16 | AB32: =(C32+D32+J32+P32+V32)-(SUM(E32:I32)+SUM(K32:O32)+SUM(Q32:U32)+SUM(W32:AA32)) -> -138.16
A33: Сумма к уплате по дням | E33: =SUM(E5:E32) -> 0 | F33: =SUM(F5:F32) -> 0 | G33: =SUM(G5:G32) -> 0 | H33: =SUM(H5:H32) -> 0 | I33: =SUM(I5:I32) -> 0 | K33: =SUM(K5:K32) -> 0 | L33: =SUM(L5:L32) -> 0 | M33: =SUM(M5:M32) -> 0 | N33: =SUM(N5:N32) -> 0 | O33: =SUM(O5:O32) -> 0 | Q33: =SUM(Q5:Q32) -> 0 | R33: =SUM(R5:R32) -> 0 | S33: =SUM(S5:S32) -> 0 | T33: =SUM(T5:T32) -> 0 | U33: =SUM(U5:U32) -> 0 | W33: =SUM(W5:W32) -> 0 | X33: =SUM(X5:X32) -> 0 | Y33: =SUM(Y5:Y32) -> 0 | Z33: =SUM(Z5:Z32) -> 0 | AA33: =SUM(AA5:AA32) -> 0
A36: Сумма к зачету столовой на конец месяца (оплачено, но не использовано) | AB36: =SUM(AB5:AB32) -> 17547.15

Sheet АПРЕЛЬ 2013
E2: АПРЕЛЬ 2013
A3: № п/п | B3: Ф.И.О. ученика | C3: Сальдо март | D3: Внесено | E3: 1-я неделя | J3: Внесено | K3: 2-я неделя | P3: Внесено | Q3: 3-я неделя | V3: Внесено | W3: 4-я неделя | AB3: Сальдо апрель
E4: 1 | F4: 2 | G4: 3 | H4: 4 | I4: 5 | K4: 8 | L4: 9 | M4: 10 | N4: 11 | O4: 12 | Q4: 15 | R4: 16 | S4: 17 | T4: 18 | U4: 19 | W4: 22 | X4: 23 | Y4: 24 | Z4: 25 | AA4: 26
A5: 1 | B5: Баркова Александра | C5: ='МАРТ 2013'!AB5 -> 3335.58 | AB5: =(C5+D5+J5+P5+V5)-(SUM(E5:I5)+SUM(K5:O5)+SUM(Q5:U5)+SUM(W5:AA5)) -> 3335.58
A6: 2 | B6: Батюшкова Алиса | C6: ='МАРТ 2013'!AB6 -> 157.85 | AB6: =(C6+D6+J6+P6+V6)-(SUM(E6:I6)+SUM(K6:O6)+SUM(Q6:U6)+SUM(W6:AA6)) -> 157.85
A7: 3 | B7: Васильев Сергей | C7: ='МАРТ 2013'!AB7 -> 746.5 | AB7: =(C7+D7+J7+P7+V7)-(SUM(E7:I7)+SUM(K7:O7)+SUM(Q7:U7)+SUM(W7:AA7)) -> 746.5
A8: 4 | B8: Горностаев Владислав | C8: ='МАРТ 2013'!AB8 -> 1660.6 | AB8: =(C8+D8+J8+P8+V8)-(SUM(E8:I8)+SUM(K8:O8)+SUM(Q8:U8)+SUM(W8:AA8)) -> 1660.6
A9: 5 | B9: Дашков Никита | C9: ='МАРТ 2013'!AB9 -> 2910.39 | AB9: =(C9+D9+J9+P9+V9)-(SUM(E9:I9)+SUM(K9:O9)+SUM(Q9:U9)+SUM(W9:AA9)) -> 2910.39
A10: 6 | B10: Девина София | C10: ='МАРТ 2013'!AB10 -> 1457.85 | AB10: =(C10+D10+J10+P10+V10)-(SUM(E10:I10)+SUM(K10:O10)+SUM(Q10:U10)+SUM(W10:AA10)) -> 1457.85
A11: 7 | B11: Ендерова Марина | C11: ='МАРТ 2013'!AB11 -> -449.65 | AB11: =(C11+D11+J11+P11+V11)-(SUM(E11:I11)+SUM(K11:O11)+SUM(Q11:U11)+SUM(W11:AA11)) -> -449.65
A12: 8 | B12: Журавлёв Сергей | C12: ='МАРТ 2013'!AB12 -> 2008.18 | AB12: =(C12+D12+J12+P12+V12)-(SUM(E12:I12)+SUM(K12:O12)+SUM(Q12:U12)+SUM(W12:AA12)) -> 2008.18
A13: 9 | B13: Каранадце Диана | C13: ='МАРТ 2013'!AB13 -> -1297.4 | AB13: =(C13+D13+J13+P13+V13)-(SUM(E13:I13)+SUM(K13:O13)+SUM(Q13:U13)+SUM(W13:AA13)) -> -1297.4
A14: 10 | B14: Крац Александр | C14: ='МАРТ 2013'!AB14 -> 0 | AB14: =(C14+D14+J14+P14+V14)-(SUM(E14:I14)+SUM(K14:O14)+SUM(Q14:U14)+SUM(W14:AA14)) -> 0
A15: 11 | B15: Круглова Мария | C15: ='МАРТ 2013'!AB15 -> 719.26 | AB15: =(C15+D15+J15+P15+V15)-(SUM(E15:I15)+SUM(K15:O15)+SUM(Q15:U15)+SUM(W15:AA15)) -> 719.26
A16: 12 | B16: Кузьмин Степан | C16: ='МАРТ 2013'!AB16 -> 359.17 | AB16: =(C16+D16+J16+P16+V16)-(SUM(E16:I16)+SUM(K16:O16)+SUM(Q16:U16)+SUM(W16:AA16)) -> 359.17
... A32: 28 | B32: Чебунина Кристина | C32: ='МАРТ 2013'!AB32 -> -138.16 | AB32: =(C32+D32+J32+P32+V32)-(SUM(E32:I32)+SUM(K32:O32)+SUM(Q32:U32)+SUM(W32:AA32)) -> -138.16
A33: Сумма к уплате по дням | E33: =SUM(E5:E32) -> 0 | F33: =SUM(F5:F32) -> 0 | G33: =SUM(G5:G32) -> 0 | H33: =SUM(H5:H32) -> 0 | I33: =SUM(I5:I32) -> 0 | K33: =SUM(K5:K32) -> 0 | L33: =SUM(L5:L32) -> 0 | M33: =SUM(M5:M32) -> 0 | N33: =SUM(N5:N32) -> 0 | O33: =SUM(O5:O32) -> 0 | Q33: =SUM(Q5:Q32) -> 0 | R33: =SUM(R5:R32) -> 0 | S33: =SUM(S5:S32) -> 0 | T33: =SUM(T5:T32) -> 0 | U33: =SUM(U5:U32) -> 0 | W33: =SUM(W5:W32) -> 0 | X33: =SUM(X5:X32) -> 0 | Y33: =SUM(Y5:Y32) -> 0 | Z33: =SUM(Z5:Z32) -> 0 | AA33: =SUM(AA5:AA32) -> 0
A36: Сумма к зачету столовой на конец месяца (оплачено, но не использовано) | AB36: =SUM(AB5:AB32) -> 17547.15

Sheet МАЙ 2013
E2: МАЙ 2013
A3: № п/п | B3: Ф.И.О. ученика | C3: Сальдо апрель | D3: Внесено | E3: 1-я неделя | J3: Внесено | K3: 2-я неделя | P3: Внесено | Q3: 3-я неделя | V3: Внесено | W3: 4-я неделя | AB3: Сальдо май
E4: 29 | F4: 30 | G4: 1 | H4: 2 | I4: 3 | K4: 6 | L4: 7 | M4: 8 | N4: 9 | O4: 10 | Q4: 13 | R4: 14 | S4: 15 | T4: 16 | U4: 17 | W4: 20 | X4: 21 | Y4: 22 | Z4: 23 | AA4: 24
A5: 1 | B5: Баркова Александра | C5: ='АПРЕЛЬ 2013'!AB5 -> 3335.58 | AB5: =(C5+D5+J5+P5+V5)-(SUM(E5:I5)+SUM(K5:O5)+SUM(Q5:U5)+SUM(W5:AA5)) -> 3335.58
A6: 2 | B6: Батюшкова Алиса | C6: ='АПРЕЛЬ 2013'!AB6 -> 157.85 | AB6: =(C6+D6+J6+P6+V6)-(SUM(E6:I6)+SUM(K6:O6)+SUM(Q6:U6)+SUM(W6:AA6)) -> 157.85
A7: 3 | B7: Васильев Сергей | C7: ='АПРЕЛЬ 2013'!AB7 -> 746.5 | AB7: =(C7+D7+J7+P7+V7)-(SUM(E7:I7)+SUM(K7:O7)+SUM(Q7:U7)+SUM(W7:AA7)) -> 746.5
A8: 4 | B8: Горностаев Владислав | C8: ='АПРЕЛЬ 2013'!AB8 -> 1660.6 | AB8: =(C8+D8+J8+P8+V8)-(SUM(E8:I8)+SUM(K8:O8)+SUM(Q8:U8)+SUM(W8:AA8)) -> 1660.6
A9: 5 | B9: Дашков Никита | C9: ='АПРЕЛЬ 2013'!AB9 -> 2910.39 | AB9: =(C9+D9+J9+P9+V9)-(SUM(E9:I9)+SUM(K9:O9)+SUM(Q9:U9)+SUM(W9:AA9)) -> 2910.39
A10: 6 | B10: Девина София | C10: ='АПРЕЛЬ 2013'!AB10 -> 1457.85 | AB10: =(C10+D10+J10+P10+V10)-(SUM(E10:I10)+SUM(K10:O10)+SUM(Q10:U10)+SUM(W10:AA10)) -> 1457.85
A11: 7 | B11: Ендерова Марина | C11: ='АПРЕЛЬ 2013'!AB11 -> -449.65 | AB11: =(C11+D11+J11+P11+V11)-(SUM(E11:I11)+SUM(K11:O11)+SUM(Q11:U11)+SUM(W11:AA11)) -> -449.65
A12: 8 | B12: Журавлёв Сергей | C12: ='АПРЕЛЬ 2013'!AB12 -> 2008.18 | AB12: =(C12+D12+J12+P12+V12)-(SUM(E12:I12)+SUM(K12:O12)+SUM(Q12:U12)+SUM(W12:AA12)) -> 2008.18
A13: 9 | B13: Каранадце Диана | C13: ='АПРЕЛЬ 2013'!AB13 -> -1297.4 | AB13: =(C13+D13+J13+P13+V13)-(SUM(E13:I13)+SUM(K13:O13)+SUM(Q13:U13)+SUM(W13:AA13)) -> -1297.4
A14: 10 | B14: Крац Александр | C14: ='АПРЕЛЬ 2013'!AB14 -> 0 | AB14: =(C14+D14+J14+P14+V14)-(SUM(E14:I14)+SUM(K14:O14)+SUM(Q14:U14)+SUM(W14:AA14)) -> 0
A15: 11 | B15: Круглова Мария | C15: ='АПРЕЛЬ 2013'!AB15 -> 719.26 | AB15: =(C15+D15+J15+P15+V15)-(SUM(E15:I15)+SUM(K15:O15)+SUM(Q15:U15)+SUM(W15:AA15)) -> 719.26
A16: 12 | B16: Кузьмин Степан | C16: ='АПРЕЛЬ 2013'!AB16 -> 359.17 | AB16: =(C16+D16+J16+P16+V16)-(SUM(E16:I16)+SUM(K16:O16)+SUM(Q16:U16)+SUM(W16:AA16)) -> 359.17
... A32: 28 | B32: Чебунина Кристина | C32: ='АПРЕЛЬ 2013'!AB32 -> -138.16 | AB32: =(C32+D32+J32+P32+V32)-(SUM(E32:I32)+SUM(K32:O32)+SUM(Q32:U32)+SUM(W32:AA32)) -> -138.16
A33: Сумма к уплате по дням | E33: =SUM(E5:E32) -> 0 | F33: =SUM(F5:F32) -> 0 | G33: =SUM(G5:G32) -> 0 | H33: =SUM(H5:H32) -> 0 | I33: =SUM(I5:I32) -> 0 | K33: =SUM(K5:K32) -> 0 | L33: =SUM(L5:L32) -> 0 | M33: =SUM(M5:M32) -> 0 | N33: =SUM(N5:N32) -> 0 | O33: =SUM(O5:O32) -> 0 | Q33: =SUM(Q5:Q32) -> 0 | R33: =SUM(R5:R32) -> 0 | S33: =SUM(S5:S32) -> 0 | T33: =SUM(T5:T32) -> 0 | U33: =SUM(U5:U32) -> 0 | W33: =SUM(W5:W32) -> 0 | X33: =SUM(X5:X32) -> 0 | Y33: =SUM(Y5:Y32) -> 0 | Z33: =SUM(Z5:Z32) -> 0 | AA33: =SUM(AA5:AA32) -> 0
A36: Сумма к зачету столовой на конец месяца (оплачено, но не использовано) | AB36: =SUM(AB5:AB32) -> 17547.15

Sheet МАЙ 2013 - 2
E2: МАЙ 2013 ПРОДОЛЖЕНИЕ
A3: № п/п | B3: Ф.И.О. ученика | C3: Сальдо май | D3: Внесено | E3: 1-я неделя | J3: Внесено | K3: 2-я неделя | P3: Внесено | Q3: 3-я неделя | V3: Внесено | W3: 4-я неделя | AB3: Сальдо май
E4: 29 | F4: 30 | G4: 1 | H4: 2 | I4: 3 | K4: 6 | L4: 7 | M4: 8 | N4: 9 | O4: 10 | Q4: 13 | R4: 14 | S4: 15 | T4: 16 | U4: 17 | W4: 27 | X4: 28 | Y4: 29 | Z4: 30 | AA4: 31
A5: 1 | B5: Баркова Александра | C5: ='МАЙ 2013'!AB5 -> 3335.58 | AB5: =(C5+D5+J5+P5+V5)-(SUM(E5:I5)+SUM(K5:O5)+SUM(Q5:U5)+SUM(W5:AA5)) -> 3335.58
A6: 2 | B6: Батюшкова Алиса | C6: ='МАЙ 2013'!AB6 -> 157.85 | AB6: =(C6+D6+J6+P6+V6)-(SUM(E6:I6)+SUM(K6:O6)+SUM(Q6:U6)+SUM(W6:AA6)) -> 157.85
A7: 3 | B7: Васильев Сергей | C7: ='МАЙ 2013'!AB7 -> 746.5 | AB7: =(C7+D7+J7+P7+V7)-(SUM(E7:I7)+SUM(K7:O7)+SUM(Q7:U7)+SUM(W7:AA7)) -> 746.5
A8: 4 | B8: Горностаев Владислав | C8: ='МАЙ 2013'!AB8 -> 1660.6 | AB8: =(C8+D8+J8+P8+V8)-(SUM(E8:I8)+SUM(K8:O8)+SUM(Q8:U8)+SUM(W8:AA8)) -> 1660.6
A9: 5 | B9: Дашков Никита | C9: ='МАЙ 2013'!AB9 -> 2910.39 | AB9: =(C9+D9+J9+P9+V9)-(SUM(E9:I9)+SUM(K9:O9)+SUM(Q9:U9)+SUM(W9:AA9)) -> 2910.39
A10: 6 | B10: Девина София | C10: ='МАЙ 2013'!AB10 -> 1457.85 | AB10: =(C10+D10+J10+P10+V10)-(SUM(E10:I10)+SUM(K10:O10)+SUM(Q10:U10)+SUM(W10:AA10)) -> 1457.85
A11: 7 | B11: Ендерова Марина | C11: ='МАЙ 2013'!AB11 -> -449.65 | AB11: =(C11+D11+J11+P11+V11)-(SUM(E11:I11)+SUM(K11:O11)+SUM(Q11:U11)+SUM(W11:AA11)) -> -449.65
A12: 8 | B12: Журавлёв Сергей | C12: ='МАЙ 2013'!AB12 -> 2008.18 | AB12: =(C12+D12+J12+P12+V12)-(SUM(E12:I12)+SUM(K12:O12)+SUM(Q12:U12)+SUM(W12:AA12)) -> 2008.18
A13: 9 | B13: Каранадце Диана | C13: ='МАЙ 2013'!AB13 -> -1297.4 | AB13: =(C13+D13+J13+P13+V13)-(SUM(E13:I13)+SUM(K13:O13)+SUM(Q13:U13)+SUM(W13:AA13)) -> -1297.4
A14: 10 | B14: Крац Александр | C14: ='МАЙ 2013'!AB14 -> 0 | AB14: =(C14+D14+J14+P14+V14)-(SUM(E14:I14)+SUM(K14:O14)+SUM(Q14:U14)+SUM(W14:AA14)) -> 0
A15: 11 | B15: Круглова Мария | C15: ='МАЙ 2013'!AB15 -> 719.26 | AB15: =(C15+D15+J15+P15+V15)-(SUM(E15:I15)+SUM(K15:O15)+SUM(Q15:U15)+SUM(W15:AA15)) -> 719.26
A16: 12 | B16: Кузьмин Степан | C16: ='МАЙ 2013'!AB16 -> 359.17 | AB16: =(C16+D16+J16+P16+V16)-(SUM(E16:I16)+SUM(K16:O16)+SUM(Q16:U16)+SUM(W16:AA16)) -> 359.17
... A32: 28 | B32: Чебунина Кристина | C32: ='МАЙ 2013'!AB32 -> -138.16 | AB32: =(C32+D32+J32+P32+V32)-(SUM(E32:I32)+SUM(K32:O32)+SUM(Q32:U32)+SUM(W32:AA32)) -> -138.16
A33: Сумма к уплате по дням | E33: =SUM(E5:E32) -> 0 | F33: =SUM(F5:F32) -> 0 | G33: =SUM(G5:G32) -> 0 | H33: =SUM(H5:H32) -> 0 | I33: =SUM(I5:I32) -> 0 | K33: =SUM(K5:K32) -> 0 | L33: =SUM(L5:L32) -> 0 | M33: =SUM(M5:M32) -> 0 | N33: =SUM(N5:N32) -> 0 | O33: =SUM(O5:O32) -> 0 | Q33: =SUM(Q5:Q32) -> 0 | R33: =SUM(R5:R32) -> 0 | S33: =SUM(S5:S32) -> 0 | T33: =SUM(T5:T32) -> 0 | U33: =SUM(U5:U32) -> 0 | W33: =SUM(W5:W32) -> 0 | X33: =SUM(X5:X32) -> 0 | Y33: =SUM(Y5:Y32) -> 0 | Z33: =SUM(Z5:Z32) -> 0 | AA33: =SUM(AA5:AA32) -> 0
A36: Сумма к зачету столовой на конец месяца (оплачено, но не использовано) | AB36: =SUM(AB5:AB32) -> 17547.15
